BEGIN:VCALENDAR
VERSION:2.0
PRODID:-//wp-events-plugin.com//7.2.3.1//EN
TZID:Europe/Berlin
X-WR-TIMEZONE:Europe/Berlin
BEGIN:VEVENT
UID:250@ambulante-versorgungsbruecken.de
DTSTART;TZID=Europe/Berlin:20260529T150000
DTEND;TZID=Europe/Berlin:20260529T180000
DTSTAMP:20260422T203404Z
URL:https://ambulante-versorgungsbruecken.de/events/tag-der-nachbarn/
SUMMARY:Tag der Nachbarn
DESCRIPTION:\n\n\n„Nachbarschaft feiern. Vielfalt erleben.“\n\nEs ist w
 ieder „Tag der Nachbarn“.\n\nDer Ambulante Versorgungsbrücken e.V. m
 öchte alle Nachbarn\, Vereinsmitglieder\, Ehrenamtliche und Interessierte
  am\nFreitag\, den 29.05.2026 ab 15.00 bis 18.00 Uhr\nganz herzlich zum Na
 chbarschaftsfest vor der Geschäftsstelle in der Humboldtstraße 126 einla
 den!\n\nGemeinsam macht das Engagement mehr Freude und an diesem Tag möch
 ten wir unter dem Motto „Informieren\, Flanieren und Kaffeesieren“ bei
  Musik\, Getränken und Speisen ein buntes Gehwegfest feiern\, die Angebot
 e des Vereins vorstellen und uns nachbarschaftlich Austauschen.\n\nWer sic
 h mit tatkräftiger Unterstützung\, Ideen oder Essensspenden beteiligen m
 öchte oder noch Fragen zum Fest hat\, kann sich bitte unter 0421 69 64 20
 0 oder info@ambulante-versorgungsbruecken.de melden.\n\nWir freuen uns auf
  Euch. Vielen Dank!\n\nEuer AVB-Team\n
CATEGORIES:Einzeltermin
LOCATION:Ambulante Versorgungsbrücken e.V.\, Humboldtstr. 126\, 28203 Brem
 en\, Büro des Vereins\, Deutschland
X-APPLE-STRUCTURED-LOCATION;VALUE=URI;X-ADDRESS=Humboldtstr. 126\, 28203 Br
 emen\, Büro des Vereins\, Deutschland;X-APPLE-RADIUS=100;X-TITLE=Ambulant
 e Versorgungsbrücken e.V.:geo:0,0
END:VEVENT
BEGIN:VTIMEZONE
TZID:Europe/Berlin
X-LIC-LOCATION:Europe/Berlin
BEGIN:DAYLIGHT
DTSTART:20260329T030000
TZOFFSETFROM:+0100
TZOFFSETTO:+0200
TZNAME:CEST
END:DAYLIGHT
END:VTIMEZONE
END:VCALENDAR